BEGIN:VCALENDAR
VERSION:2.0
PRODID:-//Word of Knowledge Ministries - ECPv6.15.17.1//NONSGML v1.0//EN
CALSCALE:GREGORIAN
METHOD:PUBLISH
X-WR-CALNAME:Word of Knowledge Ministries
X-ORIGINAL-URL:https://wordofknowledgeministries.com
X-WR-CALDESC:Events for Word of Knowledge Ministries
REFRESH-INTERVAL;VALUE=DURATION:PT1H
X-Robots-Tag:noindex
X-PUBLISHED-TTL:PT1H
BEGIN:VTIMEZONE
TZID:America/Chicago
BEGIN:DAYLIGHT
TZOFFSETFROM:-0600
TZOFFSETTO:-0500
TZNAME:CDT
DTSTART:20240310T080000
END:DAYLIGHT
BEGIN:STANDARD
TZOFFSETFROM:-0500
TZOFFSETTO:-0600
TZNAME:CST
DTSTART:20241103T070000
END:STANDARD
BEGIN:DAYLIGHT
TZOFFSETFROM:-0600
TZOFFSETTO:-0500
TZNAME:CDT
DTSTART:20250309T080000
END:DAYLIGHT
BEGIN:STANDARD
TZOFFSETFROM:-0500
TZOFFSETTO:-0600
TZNAME:CST
DTSTART:20251102T070000
END:STANDARD
BEGIN:DAYLIGHT
TZOFFSETFROM:-0600
TZOFFSETTO:-0500
TZNAME:CDT
DTSTART:20260308T080000
END:DAYLIGHT
BEGIN:STANDARD
TZOFFSETFROM:-0500
TZOFFSETTO:-0600
TZNAME:CST
DTSTART:20261101T070000
END:STANDARD
END:VTIMEZONE
BEGIN:VEVENT
DTSTART;TZID=America/Chicago:20250601T000000
DTEND;TZID=America/Chicago:20250607T000000
DTSTAMP:20260422T004528
CREATED:20250205T200829Z
LAST-MODIFIED:20250205T200830Z
UID:2999-1748736000-1749254400@wordofknowledgeministries.com
SUMMARY:Corporate Church Fasting/Prayer June 1-7
DESCRIPTION:
URL:https://wordofknowledgeministries.com/event/corporate-church-fasting-prayer-june-1-7/
CATEGORIES:Corporate Fast
END:VEVENT
BEGIN:VEVENT
DTSTART;TZID=America/Chicago:20250607T100000
DTEND;TZID=America/Chicago:20250607T130000
DTSTAMP:20260422T004528
CREATED:20250205T192205Z
LAST-MODIFIED:20250205T192206Z
UID:2854-1749290400-1749301200@wordofknowledgeministries.com
SUMMARY:Leaders' Training/Leaders' Meeting/Audio Training
DESCRIPTION:Audio Training 12:00 pm – 1:00 pm
URL:https://wordofknowledgeministries.com/event/leaders-training-leaders-meeting-audio-training/
CATEGORIES:Leaders Training/Meeting Audio Training
END:VEVENT
BEGIN:VEVENT
DTSTART;TZID=America/Chicago:20250612T190000
DTEND;TZID=America/Chicago:20250612T200000
DTSTAMP:20260422T004528
CREATED:20250205T193816Z
LAST-MODIFIED:20250205T193816Z
UID:2992-1749754800-1749758400@wordofknowledgeministries.com
SUMMARY:Iron Sharpens Iron Men Ministry
DESCRIPTION:Zoom Meeting
URL:https://wordofknowledgeministries.com/event/iron-sharpens-iron-men-ministry-2/
CATEGORIES:Iron Sharpens Iron Men Ministry
END:VEVENT
BEGIN:VEVENT
DTSTART;TZID=America/Chicago:20250621T110000
DTEND;TZID=America/Chicago:20250621T150000
DTSTAMP:20260422T004528
CREATED:20250205T195238Z
LAST-MODIFIED:20250205T195239Z
UID:2994-1750503600-1750518000@wordofknowledgeministries.com
SUMMARY:WOK Annual Church Picnic
DESCRIPTION:We are excited to invite you and your family to our picnic. It’s a wonderful opportunity to come together\, enjoy good food and strengthen our bonds as a community. We’d love for you to join in the fun! We’ll have delicious food\, fun games\, music\, and activities for all ages.
URL:https://wordofknowledgeministries.com/event/wok-annual-church-picnic/
LOCATION:Word of Knowledge Ministries
CATEGORIES:Outreach Ministry
END:VEVENT
BEGIN:VEVENT
DTSTART;TZID=America/Chicago:20250623T180000
DTEND;TZID=America/Chicago:20250623T200000
DTSTAMP:20260422T004528
CREATED:20250205T202420Z
LAST-MODIFIED:20250205T202420Z
UID:3004-1750701600-1750708800@wordofknowledgeministries.com
SUMMARY:Women in God's Presence Ministry
DESCRIPTION:1 Samuel 30:8 \nPursue and Recover all! \n 
URL:https://wordofknowledgeministries.com/event/women-in-gods-presence-ministry-3/
CATEGORIES:Women in the Presence of God Ministry
END:VEVENT
BEGIN:VEVENT
DTSTART;TZID=America/Chicago:20250627T190000
DTEND;TZID=America/Chicago:20250627T203000
DTSTAMP:20260422T004528
CREATED:20250205T201910Z
LAST-MODIFIED:20250603T211243Z
UID:3001-1751050800-1751056200@wordofknowledgeministries.com
SUMMARY:Central Texas Cathedral Worship Center (Pastor Ron's speaking)
DESCRIPTION:Our pastor has been invited to preach at Central Texas Cathedral Worship Center\, and we are grateful for this opportunity for him to minister to others. As a congregation\, let’s show our support by praying for him during this time and\, if possible\, attending the service to encourage him.
URL:https://wordofknowledgeministries.com/event/central-texas-cathedral-worship-center-pastor-ron-speaking/
LOCATION:Central Texas Cathedral Worship Center\, 700 South Main Street\, Belton\, TX\, 76513\, United States
CATEGORIES:Outreach Ministry
END:VEVENT
END:VCALENDAR