BEGIN:VCALENDAR
VERSION:2.0
PRODID:-//Word of Knowledge Ministries - ECPv6.15.17.1//NONSGML v1.0//EN
CALSCALE:GREGORIAN
METHOD:PUBLISH
X-WR-CALNAME:Word of Knowledge Ministries
X-ORIGINAL-URL:https://wordofknowledgeministries.com
X-WR-CALDESC:Events for Word of Knowledge Ministries
REFRESH-INTERVAL;VALUE=DURATION:PT1H
X-Robots-Tag:noindex
X-PUBLISHED-TTL:PT1H
BEGIN:VTIMEZONE
TZID:America/Chicago
BEGIN:DAYLIGHT
TZOFFSETFROM:-0600
TZOFFSETTO:-0500
TZNAME:CDT
DTSTART:20240310T080000
END:DAYLIGHT
BEGIN:STANDARD
TZOFFSETFROM:-0500
TZOFFSETTO:-0600
TZNAME:CST
DTSTART:20241103T070000
END:STANDARD
BEGIN:DAYLIGHT
TZOFFSETFROM:-0600
TZOFFSETTO:-0500
TZNAME:CDT
DTSTART:20250309T080000
END:DAYLIGHT
BEGIN:STANDARD
TZOFFSETFROM:-0500
TZOFFSETTO:-0600
TZNAME:CST
DTSTART:20251102T070000
END:STANDARD
BEGIN:DAYLIGHT
TZOFFSETFROM:-0600
TZOFFSETTO:-0500
TZNAME:CDT
DTSTART:20260308T080000
END:DAYLIGHT
BEGIN:STANDARD
TZOFFSETFROM:-0500
TZOFFSETTO:-0600
TZNAME:CST
DTSTART:20261101T070000
END:STANDARD
END:VTIMEZONE
BEGIN:VEVENT
DTSTART;TZID=America/Chicago:20250623T180000
DTEND;TZID=America/Chicago:20250623T200000
DTSTAMP:20260421T144339
CREATED:20250205T202420Z
LAST-MODIFIED:20250205T202420Z
UID:3004-1750701600-1750708800@wordofknowledgeministries.com
SUMMARY:Women in God's Presence Ministry
DESCRIPTION:1 Samuel 30:8 \nPursue and Recover all! \n 
URL:https://wordofknowledgeministries.com/event/women-in-gods-presence-ministry-3/
CATEGORIES:Women in the Presence of God Ministry
END:VEVENT
BEGIN:VEVENT
DTSTART;TZID=America/Chicago:20250627T190000
DTEND;TZID=America/Chicago:20250627T203000
DTSTAMP:20260421T144339
CREATED:20250205T201910Z
LAST-MODIFIED:20250603T211243Z
UID:3001-1751050800-1751056200@wordofknowledgeministries.com
SUMMARY:Central Texas Cathedral Worship Center (Pastor Ron's speaking)
DESCRIPTION:Our pastor has been invited to preach at Central Texas Cathedral Worship Center\, and we are grateful for this opportunity for him to minister to others. As a congregation\, let’s show our support by praying for him during this time and\, if possible\, attending the service to encourage him.
URL:https://wordofknowledgeministries.com/event/central-texas-cathedral-worship-center-pastor-ron-speaking/
LOCATION:Central Texas Cathedral Worship Center\, 700 South Main Street\, Belton\, TX\, 76513\, United States
CATEGORIES:Outreach Ministry
END:VEVENT
BEGIN:VEVENT
DTSTART;TZID=America/Chicago:20250701T000000
DTEND;TZID=America/Chicago:20250707T000000
DTSTAMP:20260421T144339
CREATED:20250205T204353Z
LAST-MODIFIED:20250205T204353Z
UID:3006-1751328000-1751846400@wordofknowledgeministries.com
SUMMARY:Corporate Church Fasting/Prayer July 1-7
DESCRIPTION:
URL:https://wordofknowledgeministries.com/event/corporate-church-fasting-prayer-july-1-7/
CATEGORIES:Corporate Fast
END:VEVENT
BEGIN:VEVENT
DTSTART;TZID=America/Chicago:20250712T100000
DTEND;TZID=America/Chicago:20250712T120000
DTSTAMP:20260421T144339
CREATED:20250205T204616Z
LAST-MODIFIED:20250205T204714Z
UID:3008-1752314400-1752321600@wordofknowledgeministries.com
SUMMARY:Leaders' Meeting/Training Audio Training
DESCRIPTION:Audio Training 12:00 pm – 1:00 pm \nWalk-thru for WOK 15th Anniversary
URL:https://wordofknowledgeministries.com/event/leaders-meeting-training-audio-training-3/
END:VEVENT
BEGIN:VEVENT
DTSTART;TZID=America/Chicago:20250713T170000
DTEND;TZID=America/Chicago:20250713T190000
DTSTAMP:20260421T144339
CREATED:20250205T205005Z
LAST-MODIFIED:20250603T211833Z
UID:3011-1752426000-1752433200@wordofknowledgeministries.com
SUMMARY:WOK 15th Church Anniversary
DESCRIPTION:God gets all the Glory for bringing us thus far.
URL:https://wordofknowledgeministries.com/event/wok-15th-church-anniversary/
END:VEVENT
BEGIN:VEVENT
DTSTART;TZID=America/Chicago:20250716T183000
DTEND;TZID=America/Chicago:20250716T193000
DTSTAMP:20260421T144339
CREATED:20250205T205957Z
LAST-MODIFIED:20250721T235542Z
UID:3015-1752690600-1752694200@wordofknowledgeministries.com
SUMMARY:Newcomers' Meeting
DESCRIPTION:Welcome to the WOK Family\, New members!
URL:https://wordofknowledgeministries.com/event/newcomers-meeting-3/
END:VEVENT
BEGIN:VEVENT
DTSTART;TZID=America/Chicago:20250719T110000
DTEND;TZID=America/Chicago:20250719T123000
DTSTAMP:20260421T144339
CREATED:20250205T205315Z
LAST-MODIFIED:20250205T205315Z
UID:3013-1752922800-1752928200@wordofknowledgeministries.com
SUMMARY:Iron Sharpens Iron Men Ministry
DESCRIPTION:Proverb 17:17 Iron sharpeneth iron; so a man sharpeneth the countenance of his friend.
URL:https://wordofknowledgeministries.com/event/iron-sharpens-iron-men-ministry-3/
CATEGORIES:Iron Sharpens Iron Men Ministry
END:VEVENT
BEGIN:VEVENT
DTSTART;TZID=America/Chicago:20250725T183000
DTEND;TZID=America/Chicago:20250725T200000
DTSTAMP:20260421T144339
CREATED:20250205T210525Z
LAST-MODIFIED:20250205T210725Z
UID:3017-1753468200-1753473600@wordofknowledgeministries.com
SUMMARY:Fellowship Ministry
DESCRIPTION:We will be meeting at the Hallmark Lanes. Let’s have some fun together at the bowling alley! It’s a great way to hang out\, laugh\, and enjoy some friendly competition. Come join us. Feel free to bring friends and family. Refreshments will be served. Hope to see you there!
URL:https://wordofknowledgeministries.com/event/fellowship-ministry-2/
LOCATION:Hallmark Lanes\, 4203 Shawn Drive\, Killeen\, TX\, 76542\, United States
CATEGORIES:Fellowship Ministry
END:VEVENT
BEGIN:VEVENT
DTSTART;TZID=America/Chicago:20250730T183000
DTEND;TZID=America/Chicago:20250730T200000
DTSTAMP:20260421T144339
CREATED:20250205T211341Z
LAST-MODIFIED:20250205T211342Z
UID:3022-1753900200-1753905600@wordofknowledgeministries.com
SUMMARY:Cell Groups
DESCRIPTION:Small gathering of people who come together to study the Bible and support each other in their spiritual growth.
URL:https://wordofknowledgeministries.com/event/cell-groups/
CATEGORIES:Cell Group
END:VEVENT
BEGIN:VEVENT
DTSTART;TZID=America/Chicago:20250801T000000
DTEND;TZID=America/Chicago:20250807T000000
DTSTAMP:20260421T144339
CREATED:20250205T215725Z
LAST-MODIFIED:20250205T215725Z
UID:3035-1754006400-1754524800@wordofknowledgeministries.com
SUMMARY:Corporate Church Fasting/Prayer August 1-7
DESCRIPTION:
URL:https://wordofknowledgeministries.com/event/corporate-church-fasting-prayer-august-1-7/
CATEGORIES:Corporate Fast
END:VEVENT
BEGIN:VEVENT
DTSTART;TZID=America/Chicago:20250802T100000
DTEND;TZID=America/Chicago:20250802T120000
DTSTAMP:20260421T144339
CREATED:20250205T214354Z
LAST-MODIFIED:20250205T214846Z
UID:3029-1754128800-1754136000@wordofknowledgeministries.com
SUMMARY:Leaders' Training/Meeting Audio Training
DESCRIPTION:Audio Training 12:00 pm – 1:00 pm
URL:https://wordofknowledgeministries.com/event/leaders-training-meeting-audio-training-3/
CATEGORIES:Leaders Training/Meeting Audio Training
END:VEVENT
BEGIN:VEVENT
DTSTART;TZID=America/Chicago:20250808T183000
DTEND;TZID=America/Chicago:20250808T200000
DTSTAMP:20260421T144339
CREATED:20250205T212817Z
LAST-MODIFIED:20250722T000031Z
UID:3026-1754677800-1754683200@wordofknowledgeministries.com
SUMMARY:Marriage Enrichment Gathering (MEG)
DESCRIPTION:Marriage is a beautiful journey\, and every couple deserves the opportunity to grow stronger together. We invite you to join us-a special time of fellowship\, encouragement\, and practical insights to help us build a Christ-centered marriage. Join us as we explore biblical principles for a thriving marriage\, share experiences\, and enjoy meaningful discussions. Whether you’re newlyweds or have been married for decades\, this gathering is for you!
URL:https://wordofknowledgeministries.com/event/marriage-enrichment-gathering-meg-2/
END:VEVENT
BEGIN:VEVENT
DTSTART;TZID=America/Chicago:20250809T120000
DTEND;TZID=America/Chicago:20250809T143000
DTSTAMP:20260421T144339
CREATED:20250205T215527Z
LAST-MODIFIED:20250722T000114Z
UID:3033-1754740800-1754749800@wordofknowledgeministries.com
SUMMARY:Singles' Ministry/Outreach Ministry
DESCRIPTION:We’re hosting Back to school Bash to help students start the school year prepared and excited.
URL:https://wordofknowledgeministries.com/event/singles-ministry-outreach-ministry/
CATEGORIES:Outreach Ministry,Singles' Ministry
END:VEVENT
BEGIN:VEVENT
DTSTART;TZID=America/Chicago:20250820T183000
DTEND;TZID=America/Chicago:20250820T193000
DTSTAMP:20260421T144339
CREATED:20250205T215854Z
LAST-MODIFIED:20250721T235752Z
UID:3037-1755714600-1755718200@wordofknowledgeministries.com
SUMMARY:Newcomers' Meeting
DESCRIPTION:Welcome to the WOK Family.
URL:https://wordofknowledgeministries.com/event/newcomers-meeting-4/
END:VEVENT
BEGIN:VEVENT
DTSTART;TZID=America/Chicago:20250825T183000
DTEND;TZID=America/Chicago:20250825T200000
DTSTAMP:20260421T144339
CREATED:20250205T220111Z
LAST-MODIFIED:20250205T220111Z
UID:3039-1756146600-1756152000@wordofknowledgeministries.com
SUMMARY:Women in God's Presence Ministry
DESCRIPTION:1 Samuel 2:20 \nPursue and Recover All! \n 
URL:https://wordofknowledgeministries.com/event/women-in-gods-presence-ministry-5/
CATEGORIES:Women in the Presence of God Ministry
END:VEVENT
BEGIN:VEVENT
DTSTART;TZID=America/Chicago:20250901T000000
DTEND;TZID=America/Chicago:20250907T000000
DTSTAMP:20260421T144339
CREATED:20250205T220314Z
LAST-MODIFIED:20250205T220810Z
UID:3043-1756684800-1757203200@wordofknowledgeministries.com
SUMMARY:Corporate Church Fasting/Praying September 1-7
DESCRIPTION:
URL:https://wordofknowledgeministries.com/event/corporate-church-fasting-praying/
CATEGORIES:Corporate Fast
END:VEVENT
BEGIN:VEVENT
DTSTART;TZID=America/Chicago:20250906T100000
DTEND;TZID=America/Chicago:20250906T130000
DTSTAMP:20260421T144339
CREATED:20250205T220512Z
LAST-MODIFIED:20250205T220731Z
UID:3045-1757152800-1757163600@wordofknowledgeministries.com
SUMMARY:Leaders' Meeting/Training Audio Training Leaders' Fellowship Meal
DESCRIPTION:Audio Training 12:00 pm – 1:00 pm \nFellowship Meal-Golden Corral
URL:https://wordofknowledgeministries.com/event/leaders-meeting-training-audio-training-4/
LOCATION:Golden Corral\, 1420 E. Central Texas Expressway\, Killeen\, TX\, 76541\, United States
CATEGORIES:Leaders Training/Meeting Audio Training
END:VEVENT
BEGIN:VEVENT
DTSTART;TZID=America/Chicago:20250917T183000
DTEND;TZID=America/Chicago:20250917T193000
DTSTAMP:20260421T144339
CREATED:20250205T221240Z
LAST-MODIFIED:20250721T235719Z
UID:3054-1758133800-1758137400@wordofknowledgeministries.com
SUMMARY:Newcomers' Meeting
DESCRIPTION:Welcome newcomers to the WOK Family!
URL:https://wordofknowledgeministries.com/event/newcomers-meeting-5/
END:VEVENT
BEGIN:VEVENT
DTSTART;TZID=America/Chicago:20250918T110000
DTEND;TZID=America/Chicago:20250918T150000
DTSTAMP:20260421T144339
CREATED:20250924T161015Z
LAST-MODIFIED:20250924T161015Z
UID:3413-1758193200-1758207600@wordofknowledgeministries.com
SUMMARY:Community Fall Festival
DESCRIPTION:
URL:https://wordofknowledgeministries.com/event/community-fall-festival-2/
LOCATION:Word of Knowledge Ministries
ATTACH;FMTTYPE=image/jpeg:https://wordofknowledgeministries.com/wp-content/uploads/2025/09/unnamed-13.jpg
END:VEVENT
BEGIN:VEVENT
DTSTART;TZID=America/Chicago:20250918T190000
DTEND;TZID=America/Chicago:20250918T200000
DTSTAMP:20260421T144339
CREATED:20250205T221103Z
LAST-MODIFIED:20250205T221410Z
UID:3052-1758222000-1758225600@wordofknowledgeministries.com
SUMMARY:Iron Sharpens Iron Men Ministry
DESCRIPTION:Zoom Meeting \nProverb 27:17 Iron sharpeneth iron; so a man sharpeneth the countenance of his friend.
URL:https://wordofknowledgeministries.com/event/iron-sharpens-iron-men-ministry-4/
END:VEVENT
BEGIN:VEVENT
DTSTART;TZID=America/Chicago:20250920T110000
DTEND;TZID=America/Chicago:20250920T130000
DTSTAMP:20260421T144339
CREATED:20250623T211854Z
LAST-MODIFIED:20250623T211854Z
UID:3292-1758366000-1758373200@wordofknowledgeministries.com
SUMMARY:Pastor Janice speaking
DESCRIPTION:Please come out and support Pastor Janice.
URL:https://wordofknowledgeministries.com/event/pastor-janice-speaking/
END:VEVENT
BEGIN:VEVENT
DTSTART;TZID=America/Chicago:20251001T000000
DTEND;TZID=America/Chicago:20251007T000000
DTSTAMP:20260421T144339
CREATED:20250205T221554Z
LAST-MODIFIED:20250205T221554Z
UID:3056-1759276800-1759795200@wordofknowledgeministries.com
SUMMARY:Corporate Church Fasting/Praying October 1-7
DESCRIPTION:
URL:https://wordofknowledgeministries.com/event/corporate-church-fasting-praying-october-1-7/
CATEGORIES:Corporate Fast
END:VEVENT
BEGIN:VEVENT
DTSTART;TZID=America/Chicago:20251004T100000
DTEND;TZID=America/Chicago:20251004T130000
DTSTAMP:20260421T144339
CREATED:20250205T221756Z
LAST-MODIFIED:20250205T221756Z
UID:3058-1759572000-1759582800@wordofknowledgeministries.com
SUMMARY:Leaders' Meeting/Training Audio Training
DESCRIPTION:Audio Training 12:00 pm – 1:00 pm
URL:https://wordofknowledgeministries.com/event/leaders-meeting-training-audio-training-5/
CATEGORIES:Leaders Training/Meeting Audio Training
END:VEVENT
BEGIN:VEVENT
DTSTART;TZID=America/Chicago:20251015T183000
DTEND;TZID=America/Chicago:20251015T200000
DTSTAMP:20260421T144339
CREATED:20250205T222441Z
LAST-MODIFIED:20250721T235643Z
UID:3064-1760553000-1760558400@wordofknowledgeministries.com
SUMMARY:Newcomers' Meeting
DESCRIPTION:Welcome newcomers to the WOK Family!
URL:https://wordofknowledgeministries.com/event/newcomers-meeting-6/
END:VEVENT
BEGIN:VEVENT
DTSTART;TZID=America/Chicago:20251018T110000
DTEND;TZID=America/Chicago:20251018T120000
DTSTAMP:20260421T144339
CREATED:20250205T221946Z
LAST-MODIFIED:20250205T221946Z
UID:3060-1760785200-1760788800@wordofknowledgeministries.com
SUMMARY:Iron Sharpens Iron Men Ministry
DESCRIPTION:Proverb 27:17 Iron sharpeneth iron; so a man sharpeneth the countenance of his friend.
URL:https://wordofknowledgeministries.com/event/iron-sharpens-iron-men-ministry-5/
CATEGORIES:Iron Sharpens Iron Men Ministry
END:VEVENT
BEGIN:VEVENT
DTSTART;TZID=America/Chicago:20251018T110000
DTEND;TZID=America/Chicago:20251018T150000
DTSTAMP:20260421T144339
CREATED:20250205T222332Z
LAST-MODIFIED:20250205T222332Z
UID:3062-1760785200-1760799600@wordofknowledgeministries.com
SUMMARY:Community Fall Festival
DESCRIPTION:Come celebrate the season with us. Enjoy food\, games\, music\, and fun activities for the whole family. Invite your friends and family\, and let’s make memories together.
URL:https://wordofknowledgeministries.com/event/community-fall-festival/
CATEGORIES:Outreach Ministry
END:VEVENT
BEGIN:VEVENT
DTSTART;TZID=America/Chicago:20251027T180000
DTEND;TZID=America/Chicago:20251027T200000
DTSTAMP:20260421T144339
CREATED:20250205T222655Z
LAST-MODIFIED:20250205T222655Z
UID:3066-1761588000-1761595200@wordofknowledgeministries.com
SUMMARY:Women in God's Presence Ministry
DESCRIPTION:1 Samuel 2:20 \nPursue and recover all.
URL:https://wordofknowledgeministries.com/event/women-in-gods-presence-ministry-6/
CATEGORIES:Women in the Presence of God Ministry
END:VEVENT
BEGIN:VEVENT
DTSTART;TZID=America/Chicago:20251027T183000
DTEND;TZID=America/Chicago:20251027T193000
DTSTAMP:20260421T144339
CREATED:20250205T222803Z
LAST-MODIFIED:20250205T222818Z
UID:3068-1761589800-1761593400@wordofknowledgeministries.com
SUMMARY:Cell Group
DESCRIPTION:Small gathering of people who come together to study the Bible and support each other in their spiritual growth.
URL:https://wordofknowledgeministries.com/event/cell-group-2/
CATEGORIES:Cell Group
END:VEVENT
BEGIN:VEVENT
DTSTART;TZID=America/Chicago:20251101T000000
DTEND;TZID=America/Chicago:20251107T000000
DTSTAMP:20260421T144339
CREATED:20250205T223009Z
LAST-MODIFIED:20250205T223009Z
UID:3070-1761955200-1762473600@wordofknowledgeministries.com
SUMMARY:Corporate Church Fasting/Praying November 1-7
DESCRIPTION:
URL:https://wordofknowledgeministries.com/event/corporate-church-fasting-praying-november-1-7/
CATEGORIES:Corporate Prayer/ Midweek Service
END:VEVENT
BEGIN:VEVENT
DTSTART;TZID=America/Chicago:20251114T183000
DTEND;TZID=America/Chicago:20251114T200000
DTSTAMP:20260421T144339
CREATED:20250205T223201Z
LAST-MODIFIED:20250722T000538Z
UID:3072-1763145000-1763150400@wordofknowledgeministries.com
SUMMARY:Marriage Enrichment Gathering (MEG)
DESCRIPTION:Outing – TBD
URL:https://wordofknowledgeministries.com/event/marriage-enrichment-gathering-meg-3/
CATEGORIES:Marriage Enrichment Gathering (MEG)
END:VEVENT
END:VCALENDAR