BEGIN:VCALENDAR
VERSION:2.0
PRODID:-//Word of Knowledge Ministries - ECPv6.15.17.1//NONSGML v1.0//EN
CALSCALE:GREGORIAN
METHOD:PUBLISH
X-ORIGINAL-URL:https://wordofknowledgeministries.com
X-WR-CALDESC:Events for Word of Knowledge Ministries
REFRESH-INTERVAL;VALUE=DURATION:PT1H
X-Robots-Tag:noindex
X-PUBLISHED-TTL:PT1H
BEGIN:VTIMEZONE
TZID:America/Chicago
BEGIN:DAYLIGHT
TZOFFSETFROM:-0600
TZOFFSETTO:-0500
TZNAME:CDT
DTSTART:20240310T080000
END:DAYLIGHT
BEGIN:STANDARD
TZOFFSETFROM:-0500
TZOFFSETTO:-0600
TZNAME:CST
DTSTART:20241103T070000
END:STANDARD
BEGIN:DAYLIGHT
TZOFFSETFROM:-0600
TZOFFSETTO:-0500
TZNAME:CDT
DTSTART:20250309T080000
END:DAYLIGHT
BEGIN:STANDARD
TZOFFSETFROM:-0500
TZOFFSETTO:-0600
TZNAME:CST
DTSTART:20251102T070000
END:STANDARD
BEGIN:DAYLIGHT
TZOFFSETFROM:-0600
TZOFFSETTO:-0500
TZNAME:CDT
DTSTART:20260308T080000
END:DAYLIGHT
BEGIN:STANDARD
TZOFFSETFROM:-0500
TZOFFSETTO:-0600
TZNAME:CST
DTSTART:20261101T070000
END:STANDARD
END:VTIMEZONE
BEGIN:VEVENT
DTSTART;TZID=America/Chicago:20251027T183000
DTEND;TZID=America/Chicago:20251027T193000
DTSTAMP:20260421T195816
CREATED:20250205T222803Z
LAST-MODIFIED:20250205T222818Z
UID:3068-1761589800-1761593400@wordofknowledgeministries.com
SUMMARY:Cell Group
DESCRIPTION:Small gathering of people who come together to study the Bible and support each other in their spiritual growth.
URL:https://wordofknowledgeministries.com/event/cell-group-2/
CATEGORIES:Cell Group
END:VEVENT
BEGIN:VEVENT
DTSTART;TZID=America/Chicago:20250730T183000
DTEND;TZID=America/Chicago:20250730T200000
DTSTAMP:20260421T195816
CREATED:20250205T211341Z
LAST-MODIFIED:20250205T211342Z
UID:3022-1753900200-1753905600@wordofknowledgeministries.com
SUMMARY:Cell Groups
DESCRIPTION:Small gathering of people who come together to study the Bible and support each other in their spiritual growth.
URL:https://wordofknowledgeministries.com/event/cell-groups/
CATEGORIES:Cell Group
END:VEVENT
BEGIN:VEVENT
DTSTART;TZID=America/Chicago:20250430T183000
DTEND;TZID=America/Chicago:20250430T193000
DTSTAMP:20260421T195816
CREATED:20250205T185757Z
LAST-MODIFIED:20250205T190130Z
UID:2968-1746037800-1746041400@wordofknowledgeministries.com
SUMMARY:Cell Group
DESCRIPTION:Small gathering of people who come together to study the Bible and support each other in their spiritual growth.
URL:https://wordofknowledgeministries.com/event/cell-group/
CATEGORIES:Cell Group
END:VEVENT
END:VCALENDAR