BEGIN:VCALENDAR
VERSION:2.0
PRODID:-//Word of Knowledge Ministries - ECPv6.15.17.1//NONSGML v1.0//EN
CALSCALE:GREGORIAN
METHOD:PUBLISH
X-ORIGINAL-URL:https://wordofknowledgeministries.com
X-WR-CALDESC:Events for Word of Knowledge Ministries
REFRESH-INTERVAL;VALUE=DURATION:PT1H
X-Robots-Tag:noindex
X-PUBLISHED-TTL:PT1H
BEGIN:VTIMEZONE
TZID:America/Chicago
BEGIN:DAYLIGHT
TZOFFSETFROM:-0600
TZOFFSETTO:-0500
TZNAME:CDT
DTSTART:20240310T080000
END:DAYLIGHT
BEGIN:STANDARD
TZOFFSETFROM:-0500
TZOFFSETTO:-0600
TZNAME:CST
DTSTART:20241103T070000
END:STANDARD
BEGIN:DAYLIGHT
TZOFFSETFROM:-0600
TZOFFSETTO:-0500
TZNAME:CDT
DTSTART:20250309T080000
END:DAYLIGHT
BEGIN:STANDARD
TZOFFSETFROM:-0500
TZOFFSETTO:-0600
TZNAME:CST
DTSTART:20251102T070000
END:STANDARD
BEGIN:DAYLIGHT
TZOFFSETFROM:-0600
TZOFFSETTO:-0500
TZNAME:CDT
DTSTART:20260308T080000
END:DAYLIGHT
BEGIN:STANDARD
TZOFFSETFROM:-0500
TZOFFSETTO:-0600
TZNAME:CST
DTSTART:20261101T070000
END:STANDARD
END:VTIMEZONE
BEGIN:VEVENT
DTSTART;TZID=America/Chicago:20250411T183000
DTEND;TZID=America/Chicago:20250411T200000
DTSTAMP:20260421T212753
CREATED:20250205T182152Z
LAST-MODIFIED:20250205T182152Z
UID:2950-1744396200-1744401600@wordofknowledgeministries.com
SUMMARY:Fellowship Ministry
DESCRIPTION:Bingo/Refreshments will be served. Come on out and join in the fun.
URL:https://wordofknowledgeministries.com/event/fellowship-ministry/
END:VEVENT
END:VCALENDAR